BEGIN:VCALENDAR
VERSION:2.0
PRODID:https://evenements.uqam.ca
X-PUBLISHED-TTL:P1W
BEGIN:VEVENT
UID:33870@https://evenements.uqam.ca
DTSTART:20260422T140000Z
SEQUENCE:8
TRANSP:OPAQUE
URL:https://evenements.uqam.ca/evenements/soutenance-de-cathy-lebeau-doctor
 at-en-psychologie-alterations-de-la-conscience-dans-les-synesthesies-indui
 tes-lors-d-etats-emotionnels/33870?date=2026-04-22_14-00-00
LOCATION:UQAM - Pavillon Adrien-Pinard (SU) (100\, rue Sherbrooke Ouest\, M
 ontréal )
SUMMARY:Soutenance de Cathy Lebeau\, doctorat en psychologie: «Altération
 s de la conscience dans les synesthésies induites lors d'états émotionn
 els»
CLASS:PUBLIC
DESCRIPTION:Titre de la thèse:\n\n\nAltérations de la conscience dans les
  synesthésies induites lors d'états émotionnels \n\n\nDirection de rec
 herche:\n\n\nFrançois Richer\n\n\nJury d'évaluation:\n\n\nFrançois Rich
 er\, direction de recherche\, professeur\, département de psychologie\, U
 niversité du Québec à Montréal\n\n\nIsabelle Rouleau\, évaluatrice in
 terne\, professeure\, département de psychologie\, Université du Québec
  à Montréal\n\n\nMathieu Landry\, évaluateur externe\, professeur\, Éc
 ole de psychologie\, Université Laval\n\n\nMarc-André Bédard\, préside
 nt du jury\, professeur\, département de psychologie\, Université du Qu
 ébec à Montréal\n\n\nPrésident:\n\n\nMarc-André Bédard\n\n
CATEGORIES:Thèse
DTSTAMP:20260420T174018Z
CREATED:20260407T175311Z
LAST-MODIFIED:20260409T120317Z
END:VEVENT
END:VCALENDAR