BEGIN:VCALENDAR
VERSION:2.0
PRODID:https://evenements.uqam.ca
X-PUBLISHED-TTL:P1W
BEGIN:VEVENT
UID:33886@https://evenements.uqam.ca
DTSTART:20260429T140000Z
SEQUENCE:8
TRANSP:OPAQUE
URL:https://evenements.uqam.ca/evenements/soutenance-de-roxanne-hebert-ratt
 e-doctorat-en-psychologie-diversite-des-profils-chez-les-personnes-utilisa
 trices-des-jeux-video-entre-professionnalisation-nouveaux-genres-et-femini
 sation/33886?date=2026-04-29_14-00-00
LOCATION:UQAM - Pavillon Adrien-Pinard (SU) (100\, rue Sherbrooke Ouest\, M
 ontréal )
SUMMARY:Soutenance de Roxanne Hébert-Ratté\, doctorat en psychologie: «D
 iversité des profils chez les personnes utilisatrices des jeux vidéo: en
 tre professionnalisation\, nouveaux genres et féminisation»
CLASS:PUBLIC
DESCRIPTION:Titre de la thèse:\n\n\nDiversité des profils chez les person
 nes utilisatrices des jeux vidéo : entre professionnalisation\, nouveaux 
 genres et féminisation\n\n\nDirection de recherche:\n\n\nGhassan El-Baalb
 aki\n\n\nCodirection de recherche:\n\n\nMagali Dufour\n\n\nJury d'évaluat
 ion:\n\n\nGhassan El-Baalbaki\, direction de recherche\, professeur\, dép
 artement de psychologie\, Université du Québec à Montréal\n\n\nMagali 
 Dufour\, codirection de recherche\, professeure\, département de psycholo
 gie\, Université du Québec à Montréal\n\n\nLouise Cossette\, évaluatr
 ice interne\, professeure\, département de psychologie\, Université du Q
 uébec à Montréal\n\n\nKarine Bertrand\, évaluatrice externe\, professe
 ure\, département des sciences de la santé communautaire\, Université d
 e Sherbrooke \n\n\nLiesette Brunson\, présidente du jury\, professeure\,
  département de psychologie\, Université du Québec à Montréal\n\n\nPr
 ésidente:\n\n\nLiesette Brunson\n\n
CATEGORIES:Thèse
DTSTAMP:20260425T204742Z
CREATED:20260407T200742Z
LAST-MODIFIED:20260409T120741Z
END:VEVENT
END:VCALENDAR