BEGIN:VCALENDAR
VERSION:2.0
PRODID:https://evenements.uqam.ca
X-PUBLISHED-TTL:P1W
BEGIN:VEVENT
UID:33900@https://evenements.uqam.ca
DTSTART:20260423T090000Z
SEQUENCE:6
TRANSP:OPAQUE
URL:https://evenements.uqam.ca/evenements/soutenance-de-francis-gaucher-doc
 torat-en-sociologie-protection-privee-et-sociologie-politique-de-la-mafia-
 montrealaise/33900?date=2026-04-23_09-00-00
LOCATION:Pavillon J. -A.-DeSève (DS)\, Local DS-1950 (\,  )
SUMMARY:Soutenance de Francis Gaucher\, doctorat en sociologie: «Protectio
 n privée et sociologie politique de la Mafia montréalaise»
CLASS:PUBLIC
DESCRIPTION:Titre de la thèse:\n\n\nProtection privée et sociologie polit
 ique de la Mafia montréalaise \n\n\nDirection de recherche:\n\n\nGuillau
 me Dufour\n\n\nJury d'évaluation:\n\n\nGuillaume Dufour\, direction de re
 cherche\, professeur\, département de sociologie\, Université du Québec
  à Montréal\n\n\nLuis Valentin Pereda Aguado\, évaluateur externe\, pro
 fesseur adjoint\, département de criminologie\, Université de Montréal\
 n\n\nRémi Boivin\, évaluateur externe\, professeur\, département de cri
 minologie\, Université de Montréal\n\n\nDany Fougères\, président du j
 ury\, professeur\, département d’histoire\, Université du Québec à M
 ontréal\n\n\nPrésidente:\n\n\nDany Fougères\n\n
CATEGORIES:Thèse
DTSTAMP:20260420T174018Z
CREATED:20260409T154621Z
LAST-MODIFIED:20260413T120601Z
END:VEVENT
END:VCALENDAR