BEGIN:VCALENDAR
VERSION:2.0
PRODID:https://evenements.uqam.ca
X-PUBLISHED-TTL:P1W
BEGIN:VEVENT
UID:33903@https://evenements.uqam.ca
DTSTART:20260506T150000Z
SEQUENCE:6
TRANSP:OPAQUE
URL:https://evenements.uqam.ca/evenements/soutenance-de-isabelle-abdul-rahm
 an-doctorat-en-psychologie-ca-va-toujours-avoir-un-echo-les-effets-de-la-m
 altraitance-infantile-et-de-la-psychotherapie-sur-le-lien-a-l-autre-et-a-s
 oi/33903?date=2026-05-06_15-00-00
LOCATION:En visioconférence (\,  )
SUMMARY:Soutenance de Isabelle Abdul-Rahman\, doctorat en psychologie: «Ç
 a va toujours avoir un écho»: les effets de la maltraitance infantile et
  de la psychothérapie sur le lien à l’autre et à soi
CLASS:PUBLIC
DESCRIPTION:Titre de la thèse:\n\n\n« Ça va toujours avoir un écho » :
  les effets de la maltraitanceinfantile et de la psychothérapie sur le li
 en à l’autre et à soi\n\n\nDirection de recherche:\n\n\nGhayda Hassan\
 n\n\nJury d'évaluation:\n\n\nGhayda Hassan\, direction de recherche\, pro
 fesseure\, départementde psychologie\, Université du Québec à Montréa
 l\n\n\nAmylie Paquin-Boudreau\, évaluatrice interne\, professeure associ
 ée\,département de psychologie\, Université du Québec à Montréal\n\n
 \nYan Zoldan\, évaluateur externe\, professeur\, département dessciences
  de la santé\, Université du Québec à Chicoutimi\n\n\nMarie-Alexia All
 ard\, présidente du jury\, professeure\, département depsychologie\, Uni
 versité du Québec à Montréal\n\n\nPrésidente:\n\n\nMarie-Alexia Allar
 d\n\n
CATEGORIES:Thèse
DTSTAMP:20260425T204741Z
CREATED:20260409T180416Z
LAST-MODIFIED:20260413T121119Z
END:VEVENT
END:VCALENDAR