BEGIN:VCALENDAR
VERSION:2.0
PRODID:https://evenements.uqam.ca
X-PUBLISHED-TTL:P1W
BEGIN:VEVENT
UID:33915@https://evenements.uqam.ca
DTSTART:20260425T163000Z
SEQUENCE:4
TRANSP:OPAQUE
DTEND:20260425T163000Z
URL:https://evenements.uqam.ca/evenements/dominic-paquet-j-comprends-la-gam
 e-1/33915?date=2026-04-25_15-00-00
LOCATION:UQAM - Centre Pierre-Péladeau (Q) (300\, boulevard de Maisonneuve
  Est\, Montréal )
SUMMARY:Dominic Paquet – J’comprends la game
CLASS:PUBLIC
DESCRIPTION:Présenté par Fun Nation\n\n\nAprès avoir vendu plus de 250 
 000 billets de son dernier spectacle\, le populaire humoriste Dominic Paq
 uet est de retour avec un tout nouveau one-man-show : J’comprends la g
 ame.\n\n\nLe 5e spectacle solo de Dominic se veut un gros clin d’œil à
  ces fameuses personnes qui\, grâce à leur expérience de vie\, sont cer
 taines de comprendre des choses qui sont inaccessibles pour le commun des 
 mortels… J’comprends la game est un laboratoire humoristique où la
  folie prend tout son sens alors que Dominic explore\, examine et met en 
 évidence toutes sortes de théories farfelues afin de donner des réponse
 s à des questionnements que personne n’a jamais eus!\n\n\nEncore une fo
 is\, Dominic Paquet fait rire aux éclats\, surprend et séduit par sa cap
 acité à incarner des personnages uniques et à créer des expressions q
 ui marqueront votre imaginaire! \n\n\n« Le public veut des réponses\, d
 onc moi je suis là pour nourrir les esprits. Quand le spectacle se termin
 e\, je sens que les gens quittent la salle en se disant « maintenant moi 
 aussi j’comprends la game! ».\n\n\n– Dominic Paquet\n\n\nLe spectacle
  est présenté par Alimentation Mon Quartier\, qui vous invite à vivre u
 ne expérience unique\, signée par les artisans et producteurs alimentair
 es d’ici.\n\n\n*****\n\n\n😂 Humour\n\n\nDurée : 1 h 30\n\n\nSans en
 tracte\n\nMot-clés : Fun nation\, arts et spectacle\, Humour\n\n
CATEGORIES:Spectacle
DTSTAMP:20260419T131711Z
CREATED:20260413T171636Z
LAST-MODIFIED:20260414T132005Z
END:VEVENT
BEGIN:VEVENT
UID:33915@https://evenements.uqam.ca
DTSTART:20260425T213000Z
SEQUENCE:4
TRANSP:OPAQUE
DTEND:20260425T213000Z
URL:https://evenements.uqam.ca/evenements/dominic-paquet-j-comprends-la-gam
 e-1/33915?date=2026-04-25_20-00-00
LOCATION:UQAM - Centre Pierre-Péladeau (Q) (300\, boulevard de Maisonneuve
  Est\, Montréal )
SUMMARY:Dominic Paquet – J’comprends la game
CLASS:PUBLIC
DESCRIPTION:Présenté par Fun Nation\n\n\nAprès avoir vendu plus de 250 
 000 billets de son dernier spectacle\, le populaire humoriste Dominic Paq
 uet est de retour avec un tout nouveau one-man-show : J’comprends la g
 ame.\n\n\nLe 5e spectacle solo de Dominic se veut un gros clin d’œil à
  ces fameuses personnes qui\, grâce à leur expérience de vie\, sont cer
 taines de comprendre des choses qui sont inaccessibles pour le commun des 
 mortels… J’comprends la game est un laboratoire humoristique où la
  folie prend tout son sens alors que Dominic explore\, examine et met en 
 évidence toutes sortes de théories farfelues afin de donner des réponse
 s à des questionnements que personne n’a jamais eus!\n\n\nEncore une fo
 is\, Dominic Paquet fait rire aux éclats\, surprend et séduit par sa cap
 acité à incarner des personnages uniques et à créer des expressions q
 ui marqueront votre imaginaire! \n\n\n« Le public veut des réponses\, d
 onc moi je suis là pour nourrir les esprits. Quand le spectacle se termin
 e\, je sens que les gens quittent la salle en se disant « maintenant moi 
 aussi j’comprends la game! ».\n\n\n– Dominic Paquet\n\n\nLe spectacle
  est présenté par Alimentation Mon Quartier\, qui vous invite à vivre u
 ne expérience unique\, signée par les artisans et producteurs alimentair
 es d’ici.\n\n\n*****\n\n\n😂 Humour\n\n\nDurée : 1 h 30\n\n\nSans en
 tracte\n\nMot-clés : Fun nation\, arts et spectacle\, Humour\n\n
CATEGORIES:Spectacle
DTSTAMP:20260419T131712Z
CREATED:20260413T171636Z
LAST-MODIFIED:20260414T132005Z
END:VEVENT
END:VCALENDAR