BEGIN:VCALENDAR
VERSION:2.0
PRODID:https://evenements.uqam.ca
X-PUBLISHED-TTL:P1W
BEGIN:VEVENT
UID:33918@https://evenements.uqam.ca
DTSTART:20260429T131500Z
SEQUENCE:4
TRANSP:OPAQUE
DTEND:20260429T131500Z
URL:https://evenements.uqam.ca/evenements/une-formation-continue-essentiell
 e-et-unique-pour-innover-dans-votre-enseignement/33918?date=2026-04-29_12-
 30-00
LOCATION:UQAM - En ligne (\,  )
SUMMARY:Une formation continue essentielle et unique pour innover dans votr
 e enseignement
CLASS:PUBLIC
DESCRIPTION:Une formation continue essentielle et unique pour innover dans 
 votre enseignement\n\n\nVous enseignez au postsecondaire\, vous travaillez
  en conseil pédagogique\, technopédagogie\, formation en milieu de trava
 il ou formation continue dans des organismes privés ou publics\, ou vous 
 poursuivez des études au doctorat?\n\n\nBonifiez votre expertise grâce a
 u Microprogramme de 3e cycle en recherche et développement d'innovations 
 pédagogiques (ReDIP)\, un programme de trois cours (9 crédits) pour inno
 ver dans votre enseignement.\n\n\nVous y apprendrez à:\n\n\n\nconcevoir e
 t implanter une pratique innovante optimisant les apprentissages et l'enga
 gement en tirant le meilleur profit des savoirs en éducation\;\narticuler
  et communiquer une réflexion critique à l'égard des innovations pédag
 ogiques et fondée sur les savoirs en éducation.\n\nVous souhaitez en sav
 oir plus?\n\nAssistez à une séance d'information offerte par la directri
 ce du programme\, la professeure Diane Leduc\, du Département de didactiq
 ue de l'UQAM.  \n\n\nMercredi 29 avril 2026 \n\n12h30 à 13h15 \n\nEn lig
 ne sur ZOOM\n\n\nInscription gratuite\, mais obligatoire en cliquant ici &
 gt\;&gt\; \n\n\nSans frais pour le corps professoral de l’UQAM \n\nLa fo
 rmation est sans frais pour le corps professoral de l'UQAM puisqu'elle est
  reconnue comme du perfectionnement. Vous pouvez suivre un ou trois cours.
  Pour les personnes à l’extérieur de l’UQAM\, les frais d’inscript
 ion habituels s’appliquent.\n\nMot-clés : Développement professionnel\
 , Enseignement\, Innovation\, Pédagogie\, Formation continue\n\nPrix : Gr
 atuit\n\nNotes : Inscription obligatoire\n\n
CATEGORIES:Séance d'information
DTSTAMP:20260420T222922Z
CREATED:20260414T011201Z
LAST-MODIFIED:20260414T132031Z
END:VEVENT
END:VCALENDAR