BEGIN:VCALENDAR
VERSION:2.0
PRODID:https://evenements.uqam.ca
X-PUBLISHED-TTL:P1W
BEGIN:VEVENT
UID:33920@https://evenements.uqam.ca
DTSTART:20260501T120000Z
SEQUENCE:4
TRANSP:OPAQUE
DTEND:20260501T120000Z
URL:https://evenements.uqam.ca/evenements/soutenance-de-these-zita-antoun/3
 3920?date=2026-05-01_10-00-00
LOCATION:UQAM - Pavillon Paul-Gérin-Lajoie (N) (1205\, rue Saint-Denis\, M
 ontréal )
SUMMARY:Soutenance de thèse de Zita Antoun\, doctorat en éducation
CLASS:PUBLIC
DESCRIPTION:Le 1er mai à 10h\, la candidate au doctorat en éducation Zit
 a Antoun soutiendra sa thèse intitulée « Co-construction et conceptual
 isation en contexte de recherche collaborative pour développer la pensée
  algébrique et comprendre l’écart entre les tâches attendues par la c
 hercheuse et une enseignante au premier cycle du secondaire ». \n\n\nDir
 ection de recherche\n\nMireille Saboya\, directrice de recherche\n\nFernan
 do Hitt\, codirecteur de recherche\n\n\n📅 1er mai à 10h \n\n📍Loca
 l N-3785 et sur Zoom https://uqam.zoom.us/j/84155032124\n\n\n\n\nToutes l
 es informations en lien avec les soutenances de thèses sont disponibles s
 ur le site du Vice-décanat à la recherche de la Faculté : https://reche
 rche.education.uqam.ca/recherche-education/theses-memoires/\n\nMot-clés :
  Éducation\, Soutenance de thèse\n\n
CATEGORIES:Thèse
DTSTAMP:20260425T204741Z
CREATED:20260414T144050Z
LAST-MODIFIED:20260415T104821Z
END:VEVENT
END:VCALENDAR