BEGIN:VCALENDAR
VERSION:2.0
PRODID:https://evenements.uqam.ca
X-PUBLISHED-TTL:P1W
BEGIN:VEVENT
UID:33945@https://evenements.uqam.ca
DTSTART:20260422T140000Z
SEQUENCE:6
TRANSP:OPAQUE
DTEND:20260422T140000Z
URL:https://evenements.uqam.ca/evenements/seminaire-latece-nikolaos-tsantal
 is-the-story-of-refactoringminer-slow-research-long-term-impact/33945?date
 =2026-04-22_12-00-00
LOCATION:UQAM - Pavillon Président-Kennedy (PK) (201\, avenue du Présiden
 t-Kennedy\, Montréal )
SUMMARY:Séminaire LATECE:  «The story of RefactoringMiner. Slow research\
 , long-term impact» par Nikolaos Tsantalis
CLASS:PUBLIC
DESCRIPTION:Titre : The story of RefactoringMiner. Slow research\, long-t
 erm impact\n\n\nRésumé : Dans ce séminaire\, je présenterai plus de 
 10 années de recherche sur le projet RefactoringMiner en montrant comment
  l’état de l’art en détection de refactorisation a évolué au fil d
 u temps\, ainsi que les principales leçons tirées de ma carrière\, tant
  du point de vue de la recherche que de l’ingénierie.Je conclurai le s
 éminaire en abordant les prochains grands défis que la communauté de re
 cherche en détection de refactorisation devra relever.\n\n\nBiographie :
  Nikolaos Tsantalis est professeur au département d’informatique et de
  génie logiciel à l’Université Concordia\, à Montréal\, Canada. Ses
  domaines de recherche incluent la maintenance des logiciels\, l’évolut
 ion des logiciels\, le génie logiciel empirique\, les systèmes de recomm
 andation de refactorisation\, l’extraction de refactorisations (refactor
 ing mining) et l’assurance qualité logicielle.Il a reçu trois prix du 
 « Most Influential Paper » lors des conférences SANER 2018\, SANER 2019
  et CASCON 2023\, ainsi que deux prix « ACM SIGSOFT Distinguished Paper 
 » lors de FSE 2016 et ICSE 2017.Il a été co-président de programme pou
 r plusieurs tracks des conférences ICSME\, SANER\, SCAM et ICPC\, et part
 icipe régulièrement en tant que membre du comité de programme de confé
 rences internationales en génie logiciel\, telles que FSE\, ASE\, ICSME\,
  MSR\, SANER\, ICPC et SCAM.Il est actuellement éditeur associé au sein 
 du comité éditorial de la revue IEEE Transactions on Software Engineerin
 g. Enfin\, il est membre senior de l’IEEE et de l’ACM\, et détient un
 e licence de l’Association of Professional Engineers of Ontario.\n\n\n 
 \n\nMot-clés : détection de refactorisation\, RefactoringMiner\n\nPrix :
  Gratuit\n\n
CATEGORIES:Conférence
DTSTAMP:20260422T145224Z
CREATED:20260416T182236Z
LAST-MODIFIED:20260420T110657Z
END:VEVENT
END:VCALENDAR