BEGIN:VCALENDAR
VERSION:2.0
PRODID:https://evenements.uqam.ca
X-PUBLISHED-TTL:P1W
BEGIN:VEVENT
UID:33950@https://evenements.uqam.ca
DTSTART:20260421T134500Z
SEQUENCE:8
TRANSP:OPAQUE
DTEND:20260421T134500Z
URL:https://evenements.uqam.ca/evenements/midi-conference-actualites-du-pro
 filage-racial-au-quebec-et-au-canada/33950?date=2026-04-21_12-45-00
LOCATION:UQAM - Pavillon Hubert-Aquin (A) (400\, rue Saint-Catherine Est\,
  Montréal )
SUMMARY:Midi-conférence: «Actualités du profilage racial au Québec et a
 u Canada»
CLASS:PUBLIC
DESCRIPTION:Midi-conférence à l'UQAM ! \n\n\nLa Clinique internationale 
 de défense des droits humains (CIDDHU) est heureuse de vous inviter à un
 e midi-conférence sur les actualités du profilage racial au Québec et a
 u Canada. Nous aurons la chance d'accueillir :\n\n\n\nLynda Khelil\, respo
 nsable de dossiers politiques à la Ligue des droits et libertés\nMassimi
 liano Mulone\, professeur agrégé à l'École de Criminologie de l'Univer
 sité de Montréal et chercheur au Centre international de criminologie co
 mparée\n\nAnimée par Mirja Trislch\, directrice de la CIDDHU.\n\n\nQuand
  ?\n\n\nMardi 21 avril\, de 12h45 à 13h45\n\n\nOù ?\n\n\nSalle A-1715\, 
 Pavillon A de l’UQAM\n\n\n400 Rue Sainte-Catherine E\, H2L 2C5 Montréal
 \n\n
CATEGORIES:Conférence
DTSTAMP:20260420T220856Z
CREATED:20260417T150059Z
LAST-MODIFIED:20260420T110546Z
END:VEVENT
END:VCALENDAR