BEGIN:VCALENDAR
VERSION:2.0
PRODID:https://evenements.uqam.ca
X-PUBLISHED-TTL:P1W
BEGIN:VEVENT
UID:33954@https://evenements.uqam.ca
DTSTART:20260508T200000Z
SEQUENCE:4
TRANSP:OPAQUE
DTEND:20260508T200000Z
URL:https://evenements.uqam.ca/evenements/expo-sceno-2026/33954?date=2026-0
 5-08_11-00-00
LOCATION:Lieu Propice (J-M500) (\,  )
SUMMARY:Expo-scéno 2026
CLASS:PUBLIC
DESCRIPTION:Exposition de scénographie\n\nDu 7 au 9 mai\n\nLieu Propice (
 J-M500)\n\nLa cohorte de deuxième année en scénographie de l’UQAM vou
 s invite à découvrir Expo-Scéno 2026\, présentée les 7\, 8 et 9 mai 
 au Studio-Théâtre Alfred-Laliberté. \n\n\n\nCinq œuvres grandeur natur
 e\, conçues à partir de médiums variés tels que le tissu\, la lumière
  et le son\, y sont réunies.À travers des approches artistiques distinct
 es\, l’exposition met en lumière la diversité des pratiques scénograp
 hiques et propose des expériences sensibles et immersives qui invitent à
  la réflexion. \n\n\n\n\n\nPour plus d’informations : https://theatre
 .uqam.ca/babillard/expo-sceno-2026/ + https://www.instagram.com/la_re.cre
 ation/\n\n\n\n\n\n— De toute la cohorte de deuxième année en scénogr
 aphie —\n\nMot-clés : Faculté des arts UQAM\, faculté des arts\, Th
 éâtre\, École supérieure de théâtre\, écoscénographie\, Scénograp
 hie\, Exposition\n\nPrix : Gratuit\n\n
CATEGORIES:Exposition
DTSTAMP:20260425T194855Z
CREATED:20260420T171840Z
LAST-MODIFIED:20260421T123941Z
END:VEVENT
BEGIN:VEVENT
UID:33954@https://evenements.uqam.ca
DTSTART:20260509T173000Z
SEQUENCE:4
TRANSP:OPAQUE
DTEND:20260509T173000Z
URL:https://evenements.uqam.ca/evenements/expo-sceno-2026/33954?date=2026-0
 5-09_11-00-00
LOCATION:Lieu Propice (J-M500) (\,  )
SUMMARY:Expo-scéno 2026
CLASS:PUBLIC
DESCRIPTION:Exposition de scénographie\n\nDu 7 au 9 mai\n\nLieu Propice (
 J-M500)\n\nLa cohorte de deuxième année en scénographie de l’UQAM vou
 s invite à découvrir Expo-Scéno 2026\, présentée les 7\, 8 et 9 mai 
 au Studio-Théâtre Alfred-Laliberté. \n\n\n\nCinq œuvres grandeur natur
 e\, conçues à partir de médiums variés tels que le tissu\, la lumière
  et le son\, y sont réunies.À travers des approches artistiques distinct
 es\, l’exposition met en lumière la diversité des pratiques scénograp
 hiques et propose des expériences sensibles et immersives qui invitent à
  la réflexion. \n\n\n\n\n\nPour plus d’informations : https://theatre
 .uqam.ca/babillard/expo-sceno-2026/ + https://www.instagram.com/la_re.cre
 ation/\n\n\n\n\n\n— De toute la cohorte de deuxième année en scénogr
 aphie —\n\nMot-clés : Faculté des arts UQAM\, faculté des arts\, Th
 éâtre\, École supérieure de théâtre\, écoscénographie\, Scénograp
 hie\, Exposition\n\nPrix : Gratuit\n\n
CATEGORIES:Exposition
DTSTAMP:20260425T194855Z
CREATED:20260420T171840Z
LAST-MODIFIED:20260421T123941Z
END:VEVENT
BEGIN:VEVENT
UID:33954@https://evenements.uqam.ca
DTSTART:20260507T220000Z
SEQUENCE:4
TRANSP:OPAQUE
DTEND:20260507T220000Z
URL:https://evenements.uqam.ca/evenements/expo-sceno-2026/33954?date=2026-0
 5-07_17-00-00
LOCATION:Lieu Propice (J-M500) (\,  )
SUMMARY:Expo-scéno 2026
CLASS:PUBLIC
DESCRIPTION:Exposition de scénographie\n\nDu 7 au 9 mai\n\nLieu Propice (
 J-M500)\n\nLa cohorte de deuxième année en scénographie de l’UQAM vou
 s invite à découvrir Expo-Scéno 2026\, présentée les 7\, 8 et 9 mai 
 au Studio-Théâtre Alfred-Laliberté. \n\n\n\nCinq œuvres grandeur natur
 e\, conçues à partir de médiums variés tels que le tissu\, la lumière
  et le son\, y sont réunies.À travers des approches artistiques distinct
 es\, l’exposition met en lumière la diversité des pratiques scénograp
 hiques et propose des expériences sensibles et immersives qui invitent à
  la réflexion. \n\n\n\n\n\nPour plus d’informations : https://theatre
 .uqam.ca/babillard/expo-sceno-2026/ + https://www.instagram.com/la_re.cre
 ation/\n\n\n\n\n\n— De toute la cohorte de deuxième année en scénogr
 aphie —\n\nMot-clés : Faculté des arts UQAM\, faculté des arts\, Th
 éâtre\, École supérieure de théâtre\, écoscénographie\, Scénograp
 hie\, Exposition\n\nPrix : Gratuit\n\n
CATEGORIES:Exposition
DTSTAMP:20260425T194855Z
CREATED:20260420T171840Z
LAST-MODIFIED:20260421T123941Z
END:VEVENT
END:VCALENDAR