BEGIN:VCALENDAR
VERSION:2.0
PRODID:https://evenements.uqam.ca
X-PUBLISHED-TTL:P1W
BEGIN:VEVENT
UID:33968@https://evenements.uqam.ca
DTSTART:20260507T180000Z
SEQUENCE:6
TRANSP:OPAQUE
DTEND:20260507T180000Z
URL:https://evenements.uqam.ca/evenements/annuel-2026/33968?date=2026-05-07
 _12-00-00
LOCATION:UQAM - Pavillon de Design (DE) (1440\, rue Sanguinet\, Montréal )
SUMMARY:Annuel de design 2026
CLASS:PUBLIC
DESCRIPTION:Du 7 au 20 mai 2026\, le pavillon de Design de l’Université 
 du Québec à Montréal (UQAM) ouvre ses portes au public pour la 12e édi
 tion de l’Annuel de design. Cette exposition\, qui rassemble près de 25
 0 finissants·es de l’École de design et de l’École supérieure de m
 ode\, met en lumière la créativité de la prochaine génération de desi
 gners. Pour l’occasion\, les six étages du pavillon de Design seront tr
 ansformés en une vaste galerie d’exposition\, où se côtoieront les œ
 uvres étudiantes issues des programmes de baccalauréats en design graphi
 que et expériences visuelles\, en design de l’environnement\, en gestio
 n et design de la mode\, ainsi que du DESS en design d’événements et d
 e la maîtrise en design de l’environnement. Des vidéoprojections seron
 t également présentées de 20h à minuit sur la façade du pavillon de D
 esign.\n\n\nEn plus d’une exposition d’envergure du 7 au 20 mai\, l’
 événement adopte un format à large déploiement\, regroupant une progra
 mmation d’événements majeurs\, tels que le Colloque RCxDesign le 8 mai
 \, la journée conférence de Design international le 9 mai\, le défilé 
 de mode le 12 mai ou encore le lancement du magazine Pica 17p0 le 15 mai.\
 n\n\n \n\n\n► En savoir plus sur la programmation\n\n
CATEGORIES:Exposition
DTSTAMP:20260425T204742Z
CREATED:20260422T195808Z
LAST-MODIFIED:20260423T105802Z
END:VEVENT
BEGIN:VEVENT
UID:33968@https://evenements.uqam.ca
DTSTART:20260508T180000Z
SEQUENCE:6
TRANSP:OPAQUE
DTEND:20260508T180000Z
URL:https://evenements.uqam.ca/evenements/annuel-2026/33968?date=2026-05-08
 _12-00-00
LOCATION:UQAM - Pavillon de Design (DE) (1440\, rue Sanguinet\, Montréal )
SUMMARY:Annuel de design 2026
CLASS:PUBLIC
DESCRIPTION:Du 7 au 20 mai 2026\, le pavillon de Design de l’Université 
 du Québec à Montréal (UQAM) ouvre ses portes au public pour la 12e édi
 tion de l’Annuel de design. Cette exposition\, qui rassemble près de 25
 0 finissants·es de l’École de design et de l’École supérieure de m
 ode\, met en lumière la créativité de la prochaine génération de desi
 gners. Pour l’occasion\, les six étages du pavillon de Design seront tr
 ansformés en une vaste galerie d’exposition\, où se côtoieront les œ
 uvres étudiantes issues des programmes de baccalauréats en design graphi
 que et expériences visuelles\, en design de l’environnement\, en gestio
 n et design de la mode\, ainsi que du DESS en design d’événements et d
 e la maîtrise en design de l’environnement. Des vidéoprojections seron
 t également présentées de 20h à minuit sur la façade du pavillon de D
 esign.\n\n\nEn plus d’une exposition d’envergure du 7 au 20 mai\, l’
 événement adopte un format à large déploiement\, regroupant une progra
 mmation d’événements majeurs\, tels que le Colloque RCxDesign le 8 mai
 \, la journée conférence de Design international le 9 mai\, le défilé 
 de mode le 12 mai ou encore le lancement du magazine Pica 17p0 le 15 mai.\
 n\n\n \n\n\n► En savoir plus sur la programmation\n\n
CATEGORIES:Exposition
DTSTAMP:20260425T204742Z
CREATED:20260422T195808Z
LAST-MODIFIED:20260423T105802Z
END:VEVENT
BEGIN:VEVENT
UID:33968@https://evenements.uqam.ca
DTSTART:20260509T180000Z
SEQUENCE:6
TRANSP:OPAQUE
DTEND:20260509T180000Z
URL:https://evenements.uqam.ca/evenements/annuel-2026/33968?date=2026-05-09
 _12-00-00
LOCATION:UQAM - Pavillon de Design (DE) (1440\, rue Sanguinet\, Montréal )
SUMMARY:Annuel de design 2026
CLASS:PUBLIC
DESCRIPTION:Du 7 au 20 mai 2026\, le pavillon de Design de l’Université 
 du Québec à Montréal (UQAM) ouvre ses portes au public pour la 12e édi
 tion de l’Annuel de design. Cette exposition\, qui rassemble près de 25
 0 finissants·es de l’École de design et de l’École supérieure de m
 ode\, met en lumière la créativité de la prochaine génération de desi
 gners. Pour l’occasion\, les six étages du pavillon de Design seront tr
 ansformés en une vaste galerie d’exposition\, où se côtoieront les œ
 uvres étudiantes issues des programmes de baccalauréats en design graphi
 que et expériences visuelles\, en design de l’environnement\, en gestio
 n et design de la mode\, ainsi que du DESS en design d’événements et d
 e la maîtrise en design de l’environnement. Des vidéoprojections seron
 t également présentées de 20h à minuit sur la façade du pavillon de D
 esign.\n\n\nEn plus d’une exposition d’envergure du 7 au 20 mai\, l’
 événement adopte un format à large déploiement\, regroupant une progra
 mmation d’événements majeurs\, tels que le Colloque RCxDesign le 8 mai
 \, la journée conférence de Design international le 9 mai\, le défilé 
 de mode le 12 mai ou encore le lancement du magazine Pica 17p0 le 15 mai.\
 n\n\n \n\n\n► En savoir plus sur la programmation\n\n
CATEGORIES:Exposition
DTSTAMP:20260425T204742Z
CREATED:20260422T195808Z
LAST-MODIFIED:20260423T105802Z
END:VEVENT
BEGIN:VEVENT
UID:33968@https://evenements.uqam.ca
DTSTART:20260510T180000Z
SEQUENCE:6
TRANSP:OPAQUE
DTEND:20260510T180000Z
URL:https://evenements.uqam.ca/evenements/annuel-2026/33968?date=2026-05-10
 _12-00-00
LOCATION:UQAM - Pavillon de Design (DE) (1440\, rue Sanguinet\, Montréal )
SUMMARY:Annuel de design 2026
CLASS:PUBLIC
DESCRIPTION:Du 7 au 20 mai 2026\, le pavillon de Design de l’Université 
 du Québec à Montréal (UQAM) ouvre ses portes au public pour la 12e édi
 tion de l’Annuel de design. Cette exposition\, qui rassemble près de 25
 0 finissants·es de l’École de design et de l’École supérieure de m
 ode\, met en lumière la créativité de la prochaine génération de desi
 gners. Pour l’occasion\, les six étages du pavillon de Design seront tr
 ansformés en une vaste galerie d’exposition\, où se côtoieront les œ
 uvres étudiantes issues des programmes de baccalauréats en design graphi
 que et expériences visuelles\, en design de l’environnement\, en gestio
 n et design de la mode\, ainsi que du DESS en design d’événements et d
 e la maîtrise en design de l’environnement. Des vidéoprojections seron
 t également présentées de 20h à minuit sur la façade du pavillon de D
 esign.\n\n\nEn plus d’une exposition d’envergure du 7 au 20 mai\, l’
 événement adopte un format à large déploiement\, regroupant une progra
 mmation d’événements majeurs\, tels que le Colloque RCxDesign le 8 mai
 \, la journée conférence de Design international le 9 mai\, le défilé 
 de mode le 12 mai ou encore le lancement du magazine Pica 17p0 le 15 mai.\
 n\n\n \n\n\n► En savoir plus sur la programmation\n\n
CATEGORIES:Exposition
DTSTAMP:20260425T204742Z
CREATED:20260422T195808Z
LAST-MODIFIED:20260423T105802Z
END:VEVENT
BEGIN:VEVENT
UID:33968@https://evenements.uqam.ca
DTSTART:20260511T180000Z
SEQUENCE:6
TRANSP:OPAQUE
DTEND:20260511T180000Z
URL:https://evenements.uqam.ca/evenements/annuel-2026/33968?date=2026-05-11
 _12-00-00
LOCATION:UQAM - Pavillon de Design (DE) (1440\, rue Sanguinet\, Montréal )
SUMMARY:Annuel de design 2026
CLASS:PUBLIC
DESCRIPTION:Du 7 au 20 mai 2026\, le pavillon de Design de l’Université 
 du Québec à Montréal (UQAM) ouvre ses portes au public pour la 12e édi
 tion de l’Annuel de design. Cette exposition\, qui rassemble près de 25
 0 finissants·es de l’École de design et de l’École supérieure de m
 ode\, met en lumière la créativité de la prochaine génération de desi
 gners. Pour l’occasion\, les six étages du pavillon de Design seront tr
 ansformés en une vaste galerie d’exposition\, où se côtoieront les œ
 uvres étudiantes issues des programmes de baccalauréats en design graphi
 que et expériences visuelles\, en design de l’environnement\, en gestio
 n et design de la mode\, ainsi que du DESS en design d’événements et d
 e la maîtrise en design de l’environnement. Des vidéoprojections seron
 t également présentées de 20h à minuit sur la façade du pavillon de D
 esign.\n\n\nEn plus d’une exposition d’envergure du 7 au 20 mai\, l’
 événement adopte un format à large déploiement\, regroupant une progra
 mmation d’événements majeurs\, tels que le Colloque RCxDesign le 8 mai
 \, la journée conférence de Design international le 9 mai\, le défilé 
 de mode le 12 mai ou encore le lancement du magazine Pica 17p0 le 15 mai.\
 n\n\n \n\n\n► En savoir plus sur la programmation\n\n
CATEGORIES:Exposition
DTSTAMP:20260425T204742Z
CREATED:20260422T195808Z
LAST-MODIFIED:20260423T105802Z
END:VEVENT
BEGIN:VEVENT
UID:33968@https://evenements.uqam.ca
DTSTART:20260512T180000Z
SEQUENCE:6
TRANSP:OPAQUE
DTEND:20260512T180000Z
URL:https://evenements.uqam.ca/evenements/annuel-2026/33968?date=2026-05-12
 _12-00-00
LOCATION:UQAM - Pavillon de Design (DE) (1440\, rue Sanguinet\, Montréal )
SUMMARY:Annuel de design 2026
CLASS:PUBLIC
DESCRIPTION:Du 7 au 20 mai 2026\, le pavillon de Design de l’Université 
 du Québec à Montréal (UQAM) ouvre ses portes au public pour la 12e édi
 tion de l’Annuel de design. Cette exposition\, qui rassemble près de 25
 0 finissants·es de l’École de design et de l’École supérieure de m
 ode\, met en lumière la créativité de la prochaine génération de desi
 gners. Pour l’occasion\, les six étages du pavillon de Design seront tr
 ansformés en une vaste galerie d’exposition\, où se côtoieront les œ
 uvres étudiantes issues des programmes de baccalauréats en design graphi
 que et expériences visuelles\, en design de l’environnement\, en gestio
 n et design de la mode\, ainsi que du DESS en design d’événements et d
 e la maîtrise en design de l’environnement. Des vidéoprojections seron
 t également présentées de 20h à minuit sur la façade du pavillon de D
 esign.\n\n\nEn plus d’une exposition d’envergure du 7 au 20 mai\, l’
 événement adopte un format à large déploiement\, regroupant une progra
 mmation d’événements majeurs\, tels que le Colloque RCxDesign le 8 mai
 \, la journée conférence de Design international le 9 mai\, le défilé 
 de mode le 12 mai ou encore le lancement du magazine Pica 17p0 le 15 mai.\
 n\n\n \n\n\n► En savoir plus sur la programmation\n\n
CATEGORIES:Exposition
DTSTAMP:20260425T204742Z
CREATED:20260422T195808Z
LAST-MODIFIED:20260423T105802Z
END:VEVENT
BEGIN:VEVENT
UID:33968@https://evenements.uqam.ca
DTSTART:20260513T180000Z
SEQUENCE:6
TRANSP:OPAQUE
DTEND:20260513T180000Z
URL:https://evenements.uqam.ca/evenements/annuel-2026/33968?date=2026-05-13
 _12-00-00
LOCATION:UQAM - Pavillon de Design (DE) (1440\, rue Sanguinet\, Montréal )
SUMMARY:Annuel de design 2026
CLASS:PUBLIC
DESCRIPTION:Du 7 au 20 mai 2026\, le pavillon de Design de l’Université 
 du Québec à Montréal (UQAM) ouvre ses portes au public pour la 12e édi
 tion de l’Annuel de design. Cette exposition\, qui rassemble près de 25
 0 finissants·es de l’École de design et de l’École supérieure de m
 ode\, met en lumière la créativité de la prochaine génération de desi
 gners. Pour l’occasion\, les six étages du pavillon de Design seront tr
 ansformés en une vaste galerie d’exposition\, où se côtoieront les œ
 uvres étudiantes issues des programmes de baccalauréats en design graphi
 que et expériences visuelles\, en design de l’environnement\, en gestio
 n et design de la mode\, ainsi que du DESS en design d’événements et d
 e la maîtrise en design de l’environnement. Des vidéoprojections seron
 t également présentées de 20h à minuit sur la façade du pavillon de D
 esign.\n\n\nEn plus d’une exposition d’envergure du 7 au 20 mai\, l’
 événement adopte un format à large déploiement\, regroupant une progra
 mmation d’événements majeurs\, tels que le Colloque RCxDesign le 8 mai
 \, la journée conférence de Design international le 9 mai\, le défilé 
 de mode le 12 mai ou encore le lancement du magazine Pica 17p0 le 15 mai.\
 n\n\n \n\n\n► En savoir plus sur la programmation\n\n
CATEGORIES:Exposition
DTSTAMP:20260425T204742Z
CREATED:20260422T195808Z
LAST-MODIFIED:20260423T105802Z
END:VEVENT
BEGIN:VEVENT
UID:33968@https://evenements.uqam.ca
DTSTART:20260514T180000Z
SEQUENCE:6
TRANSP:OPAQUE
DTEND:20260514T180000Z
URL:https://evenements.uqam.ca/evenements/annuel-2026/33968?date=2026-05-14
 _12-00-00
LOCATION:UQAM - Pavillon de Design (DE) (1440\, rue Sanguinet\, Montréal )
SUMMARY:Annuel de design 2026
CLASS:PUBLIC
DESCRIPTION:Du 7 au 20 mai 2026\, le pavillon de Design de l’Université 
 du Québec à Montréal (UQAM) ouvre ses portes au public pour la 12e édi
 tion de l’Annuel de design. Cette exposition\, qui rassemble près de 25
 0 finissants·es de l’École de design et de l’École supérieure de m
 ode\, met en lumière la créativité de la prochaine génération de desi
 gners. Pour l’occasion\, les six étages du pavillon de Design seront tr
 ansformés en une vaste galerie d’exposition\, où se côtoieront les œ
 uvres étudiantes issues des programmes de baccalauréats en design graphi
 que et expériences visuelles\, en design de l’environnement\, en gestio
 n et design de la mode\, ainsi que du DESS en design d’événements et d
 e la maîtrise en design de l’environnement. Des vidéoprojections seron
 t également présentées de 20h à minuit sur la façade du pavillon de D
 esign.\n\n\nEn plus d’une exposition d’envergure du 7 au 20 mai\, l’
 événement adopte un format à large déploiement\, regroupant une progra
 mmation d’événements majeurs\, tels que le Colloque RCxDesign le 8 mai
 \, la journée conférence de Design international le 9 mai\, le défilé 
 de mode le 12 mai ou encore le lancement du magazine Pica 17p0 le 15 mai.\
 n\n\n \n\n\n► En savoir plus sur la programmation\n\n
CATEGORIES:Exposition
DTSTAMP:20260425T204742Z
CREATED:20260422T195808Z
LAST-MODIFIED:20260423T105802Z
END:VEVENT
BEGIN:VEVENT
UID:33968@https://evenements.uqam.ca
DTSTART:20260515T180000Z
SEQUENCE:6
TRANSP:OPAQUE
DTEND:20260515T180000Z
URL:https://evenements.uqam.ca/evenements/annuel-2026/33968?date=2026-05-15
 _12-00-00
LOCATION:UQAM - Pavillon de Design (DE) (1440\, rue Sanguinet\, Montréal )
SUMMARY:Annuel de design 2026
CLASS:PUBLIC
DESCRIPTION:Du 7 au 20 mai 2026\, le pavillon de Design de l’Université 
 du Québec à Montréal (UQAM) ouvre ses portes au public pour la 12e édi
 tion de l’Annuel de design. Cette exposition\, qui rassemble près de 25
 0 finissants·es de l’École de design et de l’École supérieure de m
 ode\, met en lumière la créativité de la prochaine génération de desi
 gners. Pour l’occasion\, les six étages du pavillon de Design seront tr
 ansformés en une vaste galerie d’exposition\, où se côtoieront les œ
 uvres étudiantes issues des programmes de baccalauréats en design graphi
 que et expériences visuelles\, en design de l’environnement\, en gestio
 n et design de la mode\, ainsi que du DESS en design d’événements et d
 e la maîtrise en design de l’environnement. Des vidéoprojections seron
 t également présentées de 20h à minuit sur la façade du pavillon de D
 esign.\n\n\nEn plus d’une exposition d’envergure du 7 au 20 mai\, l’
 événement adopte un format à large déploiement\, regroupant une progra
 mmation d’événements majeurs\, tels que le Colloque RCxDesign le 8 mai
 \, la journée conférence de Design international le 9 mai\, le défilé 
 de mode le 12 mai ou encore le lancement du magazine Pica 17p0 le 15 mai.\
 n\n\n \n\n\n► En savoir plus sur la programmation\n\n
CATEGORIES:Exposition
DTSTAMP:20260425T204742Z
CREATED:20260422T195808Z
LAST-MODIFIED:20260423T105802Z
END:VEVENT
BEGIN:VEVENT
UID:33968@https://evenements.uqam.ca
DTSTART:20260516T180000Z
SEQUENCE:6
TRANSP:OPAQUE
DTEND:20260516T180000Z
URL:https://evenements.uqam.ca/evenements/annuel-2026/33968?date=2026-05-16
 _12-00-00
LOCATION:UQAM - Pavillon de Design (DE) (1440\, rue Sanguinet\, Montréal )
SUMMARY:Annuel de design 2026
CLASS:PUBLIC
DESCRIPTION:Du 7 au 20 mai 2026\, le pavillon de Design de l’Université 
 du Québec à Montréal (UQAM) ouvre ses portes au public pour la 12e édi
 tion de l’Annuel de design. Cette exposition\, qui rassemble près de 25
 0 finissants·es de l’École de design et de l’École supérieure de m
 ode\, met en lumière la créativité de la prochaine génération de desi
 gners. Pour l’occasion\, les six étages du pavillon de Design seront tr
 ansformés en une vaste galerie d’exposition\, où se côtoieront les œ
 uvres étudiantes issues des programmes de baccalauréats en design graphi
 que et expériences visuelles\, en design de l’environnement\, en gestio
 n et design de la mode\, ainsi que du DESS en design d’événements et d
 e la maîtrise en design de l’environnement. Des vidéoprojections seron
 t également présentées de 20h à minuit sur la façade du pavillon de D
 esign.\n\n\nEn plus d’une exposition d’envergure du 7 au 20 mai\, l’
 événement adopte un format à large déploiement\, regroupant une progra
 mmation d’événements majeurs\, tels que le Colloque RCxDesign le 8 mai
 \, la journée conférence de Design international le 9 mai\, le défilé 
 de mode le 12 mai ou encore le lancement du magazine Pica 17p0 le 15 mai.\
 n\n\n \n\n\n► En savoir plus sur la programmation\n\n
CATEGORIES:Exposition
DTSTAMP:20260425T204742Z
CREATED:20260422T195808Z
LAST-MODIFIED:20260423T105802Z
END:VEVENT
BEGIN:VEVENT
UID:33968@https://evenements.uqam.ca
DTSTART:20260517T180000Z
SEQUENCE:6
TRANSP:OPAQUE
DTEND:20260517T180000Z
URL:https://evenements.uqam.ca/evenements/annuel-2026/33968?date=2026-05-17
 _12-00-00
LOCATION:UQAM - Pavillon de Design (DE) (1440\, rue Sanguinet\, Montréal )
SUMMARY:Annuel de design 2026
CLASS:PUBLIC
DESCRIPTION:Du 7 au 20 mai 2026\, le pavillon de Design de l’Université 
 du Québec à Montréal (UQAM) ouvre ses portes au public pour la 12e édi
 tion de l’Annuel de design. Cette exposition\, qui rassemble près de 25
 0 finissants·es de l’École de design et de l’École supérieure de m
 ode\, met en lumière la créativité de la prochaine génération de desi
 gners. Pour l’occasion\, les six étages du pavillon de Design seront tr
 ansformés en une vaste galerie d’exposition\, où se côtoieront les œ
 uvres étudiantes issues des programmes de baccalauréats en design graphi
 que et expériences visuelles\, en design de l’environnement\, en gestio
 n et design de la mode\, ainsi que du DESS en design d’événements et d
 e la maîtrise en design de l’environnement. Des vidéoprojections seron
 t également présentées de 20h à minuit sur la façade du pavillon de D
 esign.\n\n\nEn plus d’une exposition d’envergure du 7 au 20 mai\, l’
 événement adopte un format à large déploiement\, regroupant une progra
 mmation d’événements majeurs\, tels que le Colloque RCxDesign le 8 mai
 \, la journée conférence de Design international le 9 mai\, le défilé 
 de mode le 12 mai ou encore le lancement du magazine Pica 17p0 le 15 mai.\
 n\n\n \n\n\n► En savoir plus sur la programmation\n\n
CATEGORIES:Exposition
DTSTAMP:20260425T204742Z
CREATED:20260422T195808Z
LAST-MODIFIED:20260423T105802Z
END:VEVENT
BEGIN:VEVENT
UID:33968@https://evenements.uqam.ca
DTSTART:20260518T180000Z
SEQUENCE:6
TRANSP:OPAQUE
DTEND:20260518T180000Z
URL:https://evenements.uqam.ca/evenements/annuel-2026/33968?date=2026-05-18
 _12-00-00
LOCATION:UQAM - Pavillon de Design (DE) (1440\, rue Sanguinet\, Montréal )
SUMMARY:Annuel de design 2026
CLASS:PUBLIC
DESCRIPTION:Du 7 au 20 mai 2026\, le pavillon de Design de l’Université 
 du Québec à Montréal (UQAM) ouvre ses portes au public pour la 12e édi
 tion de l’Annuel de design. Cette exposition\, qui rassemble près de 25
 0 finissants·es de l’École de design et de l’École supérieure de m
 ode\, met en lumière la créativité de la prochaine génération de desi
 gners. Pour l’occasion\, les six étages du pavillon de Design seront tr
 ansformés en une vaste galerie d’exposition\, où se côtoieront les œ
 uvres étudiantes issues des programmes de baccalauréats en design graphi
 que et expériences visuelles\, en design de l’environnement\, en gestio
 n et design de la mode\, ainsi que du DESS en design d’événements et d
 e la maîtrise en design de l’environnement. Des vidéoprojections seron
 t également présentées de 20h à minuit sur la façade du pavillon de D
 esign.\n\n\nEn plus d’une exposition d’envergure du 7 au 20 mai\, l’
 événement adopte un format à large déploiement\, regroupant une progra
 mmation d’événements majeurs\, tels que le Colloque RCxDesign le 8 mai
 \, la journée conférence de Design international le 9 mai\, le défilé 
 de mode le 12 mai ou encore le lancement du magazine Pica 17p0 le 15 mai.\
 n\n\n \n\n\n► En savoir plus sur la programmation\n\n
CATEGORIES:Exposition
DTSTAMP:20260425T204742Z
CREATED:20260422T195808Z
LAST-MODIFIED:20260423T105802Z
END:VEVENT
BEGIN:VEVENT
UID:33968@https://evenements.uqam.ca
DTSTART:20260519T180000Z
SEQUENCE:6
TRANSP:OPAQUE
DTEND:20260519T180000Z
URL:https://evenements.uqam.ca/evenements/annuel-2026/33968?date=2026-05-19
 _12-00-00
LOCATION:UQAM - Pavillon de Design (DE) (1440\, rue Sanguinet\, Montréal )
SUMMARY:Annuel de design 2026
CLASS:PUBLIC
DESCRIPTION:Du 7 au 20 mai 2026\, le pavillon de Design de l’Université 
 du Québec à Montréal (UQAM) ouvre ses portes au public pour la 12e édi
 tion de l’Annuel de design. Cette exposition\, qui rassemble près de 25
 0 finissants·es de l’École de design et de l’École supérieure de m
 ode\, met en lumière la créativité de la prochaine génération de desi
 gners. Pour l’occasion\, les six étages du pavillon de Design seront tr
 ansformés en une vaste galerie d’exposition\, où se côtoieront les œ
 uvres étudiantes issues des programmes de baccalauréats en design graphi
 que et expériences visuelles\, en design de l’environnement\, en gestio
 n et design de la mode\, ainsi que du DESS en design d’événements et d
 e la maîtrise en design de l’environnement. Des vidéoprojections seron
 t également présentées de 20h à minuit sur la façade du pavillon de D
 esign.\n\n\nEn plus d’une exposition d’envergure du 7 au 20 mai\, l’
 événement adopte un format à large déploiement\, regroupant une progra
 mmation d’événements majeurs\, tels que le Colloque RCxDesign le 8 mai
 \, la journée conférence de Design international le 9 mai\, le défilé 
 de mode le 12 mai ou encore le lancement du magazine Pica 17p0 le 15 mai.\
 n\n\n \n\n\n► En savoir plus sur la programmation\n\n
CATEGORIES:Exposition
DTSTAMP:20260425T204742Z
CREATED:20260422T195808Z
LAST-MODIFIED:20260423T105802Z
END:VEVENT
BEGIN:VEVENT
UID:33968@https://evenements.uqam.ca
DTSTART:20260520T180000Z
SEQUENCE:6
TRANSP:OPAQUE
DTEND:20260520T180000Z
URL:https://evenements.uqam.ca/evenements/annuel-2026/33968?date=2026-05-20
 _12-00-00
LOCATION:UQAM - Pavillon de Design (DE) (1440\, rue Sanguinet\, Montréal )
SUMMARY:Annuel de design 2026
CLASS:PUBLIC
DESCRIPTION:Du 7 au 20 mai 2026\, le pavillon de Design de l’Université 
 du Québec à Montréal (UQAM) ouvre ses portes au public pour la 12e édi
 tion de l’Annuel de design. Cette exposition\, qui rassemble près de 25
 0 finissants·es de l’École de design et de l’École supérieure de m
 ode\, met en lumière la créativité de la prochaine génération de desi
 gners. Pour l’occasion\, les six étages du pavillon de Design seront tr
 ansformés en une vaste galerie d’exposition\, où se côtoieront les œ
 uvres étudiantes issues des programmes de baccalauréats en design graphi
 que et expériences visuelles\, en design de l’environnement\, en gestio
 n et design de la mode\, ainsi que du DESS en design d’événements et d
 e la maîtrise en design de l’environnement. Des vidéoprojections seron
 t également présentées de 20h à minuit sur la façade du pavillon de D
 esign.\n\n\nEn plus d’une exposition d’envergure du 7 au 20 mai\, l’
 événement adopte un format à large déploiement\, regroupant une progra
 mmation d’événements majeurs\, tels que le Colloque RCxDesign le 8 mai
 \, la journée conférence de Design international le 9 mai\, le défilé 
 de mode le 12 mai ou encore le lancement du magazine Pica 17p0 le 15 mai.\
 n\n\n \n\n\n► En savoir plus sur la programmation\n\n
CATEGORIES:Exposition
DTSTAMP:20260425T204742Z
CREATED:20260422T195808Z
LAST-MODIFIED:20260423T105802Z
END:VEVENT
END:VCALENDAR